BEGIN:VCALENDAR
PRODID:-//Microsoft Corporation//Outlook 12.0 MIMEDIR//EN
VERSION:2.0
CALSCALE:GREGORIAN
BEGIN:VEVENT
UID: df864dad-5e38-4e1c-a7fe-7fb48be0a4a6
SUMMARY:CNC metallilõikepingi programmeerimine ja seadistamine
DTSTAMP:20260319
DTSTART:20260319
DTEND:20260425
DURATION:P37D
LOCATION:Tehnomaja
DESCRIPTION: <p><strong>CNC metallilõikepingi programmeerimine ja seadistamine</strong></p><p>Täienduskoolitus CNC metallilõikepingi (trei- ja freespink) seadistamisest ja programmeerimisest ning detailide töötlemisest ja kvaliteedi tagamisest, järgides tööohutuse ja -keskkonna nõudeid.</p><p><strong>Koolituse aeg</strong>: 19.03 - 24.04.2026</p><p>Koolitus toimub 19.-20.03, 9.-10.04, 23.-24.04.2026 (neljapäeviti kl 10-17.15, reedeti kl 8.30-16.15)</p><p><strong>Maht</strong>: 52 tundi</p><p style="background-color:white;"><span style="font-family:&quot;Times New Roman&quot;,serif;">Sihtrühm:</span><span style="color:#333333;font-family:&quot;Times New Roman&quot;,serif;font-size:12.0pt;line-height:115%;"> Tootmise ja tehnika valdkonna, mehaanika ja m</span><span style="font-family:&quot;Times New Roman&quot;,serif;">etalliettevõtete töötajad, kes vajavad oskusi CNC metallilõikepinkidel (frees- ja treipink) töötamiseks.</span></p><p style="background-color:white;line-height:12.0pt;"><span style="font-family:&quot;Times New Roman&quot;,serif;font-size:12.0pt;"><strong>Grupi suurus</strong>: 8 inimest</span></p><p style="background-color:white;"><span style="font-family:&quot;Times New Roman&quot;,serif;font-size:12.0pt;line-height:115%;"><strong>Õppe alustamise nõuded</strong>:<strong> </strong>Arvuti kasutamise algoskused. Kasuks tuleb kogemus metallitöö valdkonnas.</span></p><p style="background-color:white;"><span style="font-family:&quot;Times New Roman&quot;,serif;font-size:12.0pt;line-height:115%;"><strong>Õpiväljundid</strong>. </span><span style="font-family:&quot;Times New Roman&quot;,serif;font-size:12.0pt;">Koolituse lõpuks õppija:&nbsp;</span></p><ul style="list-style-type:disc;"><li data-list-item-id="e20db4b126c661cb54eaeb6f5764947e4"><p style="background-color:white;line-height:11.75pt;"><span style="font-family:&quot;Times New Roman&quot;,serif;font-size:12.0pt;">oskab CNC metallilõikepinki (trei- ja freespink) programmeerida;</span></p></li><li data-list-item-id="efca5a721f335f2109286b62c60fbdcc6"><p style="background-color:white;line-height:11.75pt;"><span style="font-family:&quot;Times New Roman&quot;,serif;font-size:12.0pt;">oskab ette valmistada, seadistada ja hooldada CNC trei- ja freespinki;</span></p></li><li data-list-item-id="e77542941dc769ab95de54a0c08d14638"><p style="background-color:white;line-height:11.75pt;"><span style="font-family:&quot;Times New Roman&quot;,serif;font-size:12.0pt;">oskab töödelda detaile CNC frees- ja treipinkidel ning valmis detailide kvaliteeti kontrollida.&nbsp;</span></p></li></ul><p><span style="font-family:&quot;Times New Roman&quot;,serif;font-size:12.0pt;line-height:115%;">järgib töötamisel tööohutuse ja -keskkonna nõudeid.&nbsp;</span></p><p><span style="font-family:&quot;Times New Roman&quot;,serif;font-size:12.0pt;line-height:115%;"><strong>Õppe sisu</strong>:</span></p><p style="background-color:white;"><span style="font-family:&quot;Times New Roman&quot;,serif;font-size:12.0pt;line-height:115%;">Auditoorne töö: 16 tundi</span></p><p style="background-color:white;"><span style="font-family:&quot;Times New Roman&quot;,serif;font-size:12.0pt;line-height:115%;">Tüüpdetailide valmistamise tehnoloogilised protsessid;</span></p><p style="background-color:white;"><span style="font-family:&quot;Times New Roman&quot;,serif;font-size:12.0pt;line-height:115%;">Tööohutuse ja -keskkonna nõuded CNC metallilõikepinkidel töötamisel;&nbsp;</span></p><p style="background-color:white;"><span style="font-family:&quot;Times New Roman&quot;,serif;font-size:12.0pt;line-height:115%;">Freesimisel ja treimisel kasutatavad lõikeinstrumendid;&nbsp;</span></p><p style="background-color:white;"><span style="font-family:&quot;Times New Roman&quot;,serif;font-size:12.0pt;line-height:115%;">Freespingid ja treipingid, nende tööpõhimõtted, ehitus, juhtimissüsteem;</span></p><p style="background-color:white;"><span style="font-family:&quot;Times New Roman&quot;,serif;font-size:12.0pt;line-height:115%;">Üldteadmised freespinkide ja treipinkide &nbsp;hooldamisest (määrde- ja jahutusvedelikud, filtrid);</span></p><p style="background-color:white;"><span style="font-family:&quot;Times New Roman&quot;,serif;font-size:12.0pt;line-height:115%;">Mitmesugused lisaseadmed, tööriistad, ülesseadmis- ja kinnitusrakised;</span></p><p style="background-color:white;"><span style="font-family:&quot;Times New Roman&quot;,serif;font-size:12.0pt;line-height:115%;">Tehnoloogilised režiimid freespinkidel ja treipinkidel, nende valiku alused;&nbsp;</span></p><p style="background-color:white;"><span style="font-family:&quot;Times New Roman&quot;,serif;font-size:12.0pt;line-height:115%;">Freesimisega ja treimisega &nbsp;seotud terminoloogia (emakeeles ja vähemalt ühes võõrkeeles);</span></p><p style="background-color:white;"><span style="font-family:&quot;Times New Roman&quot;,serif;font-size:12.0pt;line-height:115%;">Tööpinkide koordinaatsüsteemid;&nbsp;</span></p><p style="background-color:white;"><span style="font-family:&quot;Times New Roman&quot;,serif;font-size:12.0pt;line-height:115%;">Tööpinkide juhtsüsteemid;&nbsp;</span></p><p style="background-color:white;"><span style="font-family:&quot;Times New Roman&quot;,serif;font-size:12.0pt;line-height:115%;">Alamprogrammide otstarve ja võimalused;&nbsp;</span></p><p style="background-color:white;"><span style="font-family:&quot;Times New Roman&quot;,serif;font-size:12.0pt;line-height:115%;">Juhtprogrammide koostamise alused.</span></p><p style="background-color:white;"><span style="font-family:&quot;Times New Roman&quot;,serif;font-size:12.0pt;line-height:115%;">Praktiline töö: 36 tundi</span></p><p style="background-color:white;"><span style="font-family:&quot;Times New Roman&quot;,serif;font-size:12.0pt;line-height:115%;">Tööjoonisega tutvumine ja seadistab CNC freespingi ja/või treipingi &nbsp;detailide valmistamiseks: kinnitab tooriku töölauale, valides sobivad kinnitusrakised.&nbsp;</span></p><p style="background-color:white;"><span style="font-family:&quot;Times New Roman&quot;,serif;font-size:12.0pt;line-height:115%;">Detailijoonisest lähtudes vajalike lõikeinstrumentide valimine ja töökorras oleku kontrollimine;</span></p><p style="background-color:white;"><span style="font-family:&quot;Times New Roman&quot;,serif;font-size:12.0pt;line-height:115%;">Lähtuvalt detailijoonisest, tooriku materjalist ja kasutatavast lõikeinstrumendist optimaalsete lõikerežiimide määramine;</span></p><p style="background-color:white;"><span style="font-family:&quot;Times New Roman&quot;,serif;font-size:12.0pt;line-height:115%;">Lõikeinstrumentide asetamine instrumendihoidjasse ja vajalike nullpunktide määramine;</span></p><p style="background-color:white;"><span style="font-family:&quot;Times New Roman&quot;,serif;font-size:12.0pt;line-height:115%;">Juhtprogrammide koostamine vajadusel puurimiseks ja tasapinnaliste kontuuride (nt sooned, ringid, ristkülikud, ruudud jne) ning astmete freesimiseks/ treimiseks, kasutades tööpingi juhtsüsteemis olevaid alamprogramme;</span></p><p style="background-color:white;"><span style="font-family:&quot;Times New Roman&quot;,serif;font-size:12.0pt;line-height:115%;">Etteantud juhtimisprogrammi õigsuses ja vastavuses detailijoonisele veendumine;&nbsp;</span></p><p style="background-color:white;"><span style="font-family:&quot;Times New Roman&quot;,serif;font-size:12.0pt;line-height:115%;">Etteantud detailijoonisest lähtudes detaile CNC-freespingil ja treipingil valmistamine;</span></p><p style="background-color:white;"><span style="font-family:&quot;Times New Roman&quot;,serif;font-size:12.0pt;line-height:115%;">Tööprotsessi jälgimine ning rikke ilmnemisel tööpingi seiskamine viisil, et kahju (tööpingi tehniline seisund, toorainekulu jms) oleks võimalikult vähene;</span></p><p><span style="font-family:&quot;Times New Roman&quot;,serif;font-size:12.0pt;line-height:115%;">Valmis detaili kvaliteedi ja tehnilisele dokumentatsioonile vastavuse kontrollimine</span></p><p style="background-color:white;"><span style="font-family:&quot;Times New Roman&quot;,serif;font-size:12.0pt;line-height:115%;">Valmis detailide puhastamine ning kraadide ja muude töötlemisjäätmete puhastamine;</span></p><p style="background-color:white;"><span style="font-family:&quot;Times New Roman&quot;,serif;font-size:12.0pt;line-height:115%;">Valmis detailide ladustamine, lähtudes töökoha korraldamise nõuetest;</span></p><p style="background-color:white;"><span style="font-family:&quot;Times New Roman&quot;,serif;font-size:12.0pt;line-height:115%;">Tööpingi puhastamine ja töökoha korrastamine töö lõpetamisel.&nbsp;</span></p><p style="background-color:white;">Koolitaja: <span style="font-family:&quot;Times New Roman&quot;,serif;font-size:12.0pt;line-height:115%;"><strong>Tõnu Leemet</strong> - tehnikaalane kõrgharidus (EMÜ Tehnikainstituut, doktor), tehnika- ja tehnoloogiavaldkonna lektor &nbsp;ja täiskasvanute koolitaja.</span></p><p style="background-color:white;"><a href="https://drive.google.com/file/d/1aTif4764Z_f-P2CjuSZtftmsiikZiD18/view?usp=sharing"><span style="font-family:&quot;Times New Roman&quot;,serif;font-size:12.0pt;line-height:115%;">Õppekava</span></a></p><p style="background-color:white;"><a href="https://docs.google.com/forms/d/e/1FAIpQLSfzOs9130_Aa-etMxY5Dr1dtGRc8Zdo5kneLO-5hf460ZJ1vg/viewform?usp=publish-editor"><span style="font-family:&quot;Times New Roman&quot;,serif;font-size:12.0pt;line-height:115%;">Registreerimine</span></a><span style="font-family:&quot;Times New Roman&quot;,serif;font-size:12.0pt;line-height:115%;"> kuni 16.03 või õppekohtade täitumiseni.</span></p><p style="background-color:white;">Lisainfo: tel 56905389, <a href="mailto:terje.kruusalu@ewers.ee">terje.kruusalu@ewers.ee</a></p><p style="background-color:white;"><span style="-webkit-text-stroke-width:0px;background-color:rgb(255, 255, 255);color:rgb(74, 74, 74);display:inline !important;float:none;font-family:Roboto, Arial, Verdana, sans-serif;font-size:16px;font-style:normal;font-variant-caps:normal;font-variant-ligatures:normal;font-weight:400;letter-spacing:normal;orphans:2;text-align:left;text-decoration-color:initial;text-decoration-style:initial;text-decoration-thickness:initial;text-indent:0px;text-transform:none;white-space:normal;widows:2;word-spacing:0px;">VÕTI RKT koolitus viiakse läbi ESF programmist "Täiskasvanuhariduse arendamine ja mitteformaalsete õppimisvõimaluste pakkumine".</span></p><p><strong>Link: </strong>https://www.ewers.ee/et/koolituste-kalender/cnc-metalliloikepingi-programmeerimine-ja-seadistamine-0</p><p><strong>Hind: </strong>Tasuta</p>
STATUS:CONFIRMED
SEQUENCE:3
X-ALT-DESC;FMTTYPE=text/html:<p><strong>CNC metallilõikepingi programmeerimine ja seadistamine</strong></p><p>Täienduskoolitus CNC metallilõikepingi (trei- ja freespink) seadistamisest ja programmeerimisest ning detailide töötlemisest ja kvaliteedi tagamisest, järgides tööohutuse ja -keskkonna nõudeid.</p><p><strong>Koolituse aeg</strong>: 19.03 - 24.04.2026</p><p>Koolitus toimub 19.-20.03, 9.-10.04, 23.-24.04.2026 (neljapäeviti kl 10-17.15, reedeti kl 8.30-16.15)</p><p><strong>Maht</strong>: 52 tundi</p><p style="background-color:white;"><span style="font-family:&quot;Times New Roman&quot;,serif;">Sihtrühm:</span><span style="color:#333333;font-family:&quot;Times New Roman&quot;,serif;font-size:12.0pt;line-height:115%;"> Tootmise ja tehnika valdkonna, mehaanika ja m</span><span style="font-family:&quot;Times New Roman&quot;,serif;">etalliettevõtete töötajad, kes vajavad oskusi CNC metallilõikepinkidel (frees- ja treipink) töötamiseks.</span></p><p style="background-color:white;line-height:12.0pt;"><span style="font-family:&quot;Times New Roman&quot;,serif;font-size:12.0pt;"><strong>Grupi suurus</strong>: 8 inimest</span></p><p style="background-color:white;"><span style="font-family:&quot;Times New Roman&quot;,serif;font-size:12.0pt;line-height:115%;"><strong>Õppe alustamise nõuded</strong>:<strong> </strong>Arvuti kasutamise algoskused. Kasuks tuleb kogemus metallitöö valdkonnas.</span></p><p style="background-color:white;"><span style="font-family:&quot;Times New Roman&quot;,serif;font-size:12.0pt;line-height:115%;"><strong>Õpiväljundid</strong>. </span><span style="font-family:&quot;Times New Roman&quot;,serif;font-size:12.0pt;">Koolituse lõpuks õppija:&nbsp;</span></p><ul style="list-style-type:disc;"><li data-list-item-id="e20db4b126c661cb54eaeb6f5764947e4"><p style="background-color:white;line-height:11.75pt;"><span style="font-family:&quot;Times New Roman&quot;,serif;font-size:12.0pt;">oskab CNC metallilõikepinki (trei- ja freespink) programmeerida;</span></p></li><li data-list-item-id="efca5a721f335f2109286b62c60fbdcc6"><p style="background-color:white;line-height:11.75pt;"><span style="font-family:&quot;Times New Roman&quot;,serif;font-size:12.0pt;">oskab ette valmistada, seadistada ja hooldada CNC trei- ja freespinki;</span></p></li><li data-list-item-id="e77542941dc769ab95de54a0c08d14638"><p style="background-color:white;line-height:11.75pt;"><span style="font-family:&quot;Times New Roman&quot;,serif;font-size:12.0pt;">oskab töödelda detaile CNC frees- ja treipinkidel ning valmis detailide kvaliteeti kontrollida.&nbsp;</span></p></li></ul><p><span style="font-family:&quot;Times New Roman&quot;,serif;font-size:12.0pt;line-height:115%;">järgib töötamisel tööohutuse ja -keskkonna nõudeid.&nbsp;</span></p><p><span style="font-family:&quot;Times New Roman&quot;,serif;font-size:12.0pt;line-height:115%;"><strong>Õppe sisu</strong>:</span></p><p style="background-color:white;"><span style="font-family:&quot;Times New Roman&quot;,serif;font-size:12.0pt;line-height:115%;">Auditoorne töö: 16 tundi</span></p><p style="background-color:white;"><span style="font-family:&quot;Times New Roman&quot;,serif;font-size:12.0pt;line-height:115%;">Tüüpdetailide valmistamise tehnoloogilised protsessid;</span></p><p style="background-color:white;"><span style="font-family:&quot;Times New Roman&quot;,serif;font-size:12.0pt;line-height:115%;">Tööohutuse ja -keskkonna nõuded CNC metallilõikepinkidel töötamisel;&nbsp;</span></p><p style="background-color:white;"><span style="font-family:&quot;Times New Roman&quot;,serif;font-size:12.0pt;line-height:115%;">Freesimisel ja treimisel kasutatavad lõikeinstrumendid;&nbsp;</span></p><p style="background-color:white;"><span style="font-family:&quot;Times New Roman&quot;,serif;font-size:12.0pt;line-height:115%;">Freespingid ja treipingid, nende tööpõhimõtted, ehitus, juhtimissüsteem;</span></p><p style="background-color:white;"><span style="font-family:&quot;Times New Roman&quot;,serif;font-size:12.0pt;line-height:115%;">Üldteadmised freespinkide ja treipinkide &nbsp;hooldamisest (määrde- ja jahutusvedelikud, filtrid);</span></p><p style="background-color:white;"><span style="font-family:&quot;Times New Roman&quot;,serif;font-size:12.0pt;line-height:115%;">Mitmesugused lisaseadmed, tööriistad, ülesseadmis- ja kinnitusrakised;</span></p><p style="background-color:white;"><span style="font-family:&quot;Times New Roman&quot;,serif;font-size:12.0pt;line-height:115%;">Tehnoloogilised režiimid freespinkidel ja treipinkidel, nende valiku alused;&nbsp;</span></p><p style="background-color:white;"><span style="font-family:&quot;Times New Roman&quot;,serif;font-size:12.0pt;line-height:115%;">Freesimisega ja treimisega &nbsp;seotud terminoloogia (emakeeles ja vähemalt ühes võõrkeeles);</span></p><p style="background-color:white;"><span style="font-family:&quot;Times New Roman&quot;,serif;font-size:12.0pt;line-height:115%;">Tööpinkide koordinaatsüsteemid;&nbsp;</span></p><p style="background-color:white;"><span style="font-family:&quot;Times New Roman&quot;,serif;font-size:12.0pt;line-height:115%;">Tööpinkide juhtsüsteemid;&nbsp;</span></p><p style="background-color:white;"><span style="font-family:&quot;Times New Roman&quot;,serif;font-size:12.0pt;line-height:115%;">Alamprogrammide otstarve ja võimalused;&nbsp;</span></p><p style="background-color:white;"><span style="font-family:&quot;Times New Roman&quot;,serif;font-size:12.0pt;line-height:115%;">Juhtprogrammide koostamise alused.</span></p><p style="background-color:white;"><span style="font-family:&quot;Times New Roman&quot;,serif;font-size:12.0pt;line-height:115%;">Praktiline töö: 36 tundi</span></p><p style="background-color:white;"><span style="font-family:&quot;Times New Roman&quot;,serif;font-size:12.0pt;line-height:115%;">Tööjoonisega tutvumine ja seadistab CNC freespingi ja/või treipingi &nbsp;detailide valmistamiseks: kinnitab tooriku töölauale, valides sobivad kinnitusrakised.&nbsp;</span></p><p style="background-color:white;"><span style="font-family:&quot;Times New Roman&quot;,serif;font-size:12.0pt;line-height:115%;">Detailijoonisest lähtudes vajalike lõikeinstrumentide valimine ja töökorras oleku kontrollimine;</span></p><p style="background-color:white;"><span style="font-family:&quot;Times New Roman&quot;,serif;font-size:12.0pt;line-height:115%;">Lähtuvalt detailijoonisest, tooriku materjalist ja kasutatavast lõikeinstrumendist optimaalsete lõikerežiimide määramine;</span></p><p style="background-color:white;"><span style="font-family:&quot;Times New Roman&quot;,serif;font-size:12.0pt;line-height:115%;">Lõikeinstrumentide asetamine instrumendihoidjasse ja vajalike nullpunktide määramine;</span></p><p style="background-color:white;"><span style="font-family:&quot;Times New Roman&quot;,serif;font-size:12.0pt;line-height:115%;">Juhtprogrammide koostamine vajadusel puurimiseks ja tasapinnaliste kontuuride (nt sooned, ringid, ristkülikud, ruudud jne) ning astmete freesimiseks/ treimiseks, kasutades tööpingi juhtsüsteemis olevaid alamprogramme;</span></p><p style="background-color:white;"><span style="font-family:&quot;Times New Roman&quot;,serif;font-size:12.0pt;line-height:115%;">Etteantud juhtimisprogrammi õigsuses ja vastavuses detailijoonisele veendumine;&nbsp;</span></p><p style="background-color:white;"><span style="font-family:&quot;Times New Roman&quot;,serif;font-size:12.0pt;line-height:115%;">Etteantud detailijoonisest lähtudes detaile CNC-freespingil ja treipingil valmistamine;</span></p><p style="background-color:white;"><span style="font-family:&quot;Times New Roman&quot;,serif;font-size:12.0pt;line-height:115%;">Tööprotsessi jälgimine ning rikke ilmnemisel tööpingi seiskamine viisil, et kahju (tööpingi tehniline seisund, toorainekulu jms) oleks võimalikult vähene;</span></p><p><span style="font-family:&quot;Times New Roman&quot;,serif;font-size:12.0pt;line-height:115%;">Valmis detaili kvaliteedi ja tehnilisele dokumentatsioonile vastavuse kontrollimine</span></p><p style="background-color:white;"><span style="font-family:&quot;Times New Roman&quot;,serif;font-size:12.0pt;line-height:115%;">Valmis detailide puhastamine ning kraadide ja muude töötlemisjäätmete puhastamine;</span></p><p style="background-color:white;"><span style="font-family:&quot;Times New Roman&quot;,serif;font-size:12.0pt;line-height:115%;">Valmis detailide ladustamine, lähtudes töökoha korraldamise nõuetest;</span></p><p style="background-color:white;"><span style="font-family:&quot;Times New Roman&quot;,serif;font-size:12.0pt;line-height:115%;">Tööpingi puhastamine ja töökoha korrastamine töö lõpetamisel.&nbsp;</span></p><p style="background-color:white;">Koolitaja: <span style="font-family:&quot;Times New Roman&quot;,serif;font-size:12.0pt;line-height:115%;"><strong>Tõnu Leemet</strong> - tehnikaalane kõrgharidus (EMÜ Tehnikainstituut, doktor), tehnika- ja tehnoloogiavaldkonna lektor &nbsp;ja täiskasvanute koolitaja.</span></p><p style="background-color:white;"><a href="https://drive.google.com/file/d/1aTif4764Z_f-P2CjuSZtftmsiikZiD18/view?usp=sharing"><span style="font-family:&quot;Times New Roman&quot;,serif;font-size:12.0pt;line-height:115%;">Õppekava</span></a></p><p style="background-color:white;"><a href="https://docs.google.com/forms/d/e/1FAIpQLSfzOs9130_Aa-etMxY5Dr1dtGRc8Zdo5kneLO-5hf460ZJ1vg/viewform?usp=publish-editor"><span style="font-family:&quot;Times New Roman&quot;,serif;font-size:12.0pt;line-height:115%;">Registreerimine</span></a><span style="font-family:&quot;Times New Roman&quot;,serif;font-size:12.0pt;line-height:115%;"> kuni 16.03 või õppekohtade täitumiseni.</span></p><p style="background-color:white;">Lisainfo: tel 56905389, <a href="mailto:terje.kruusalu@ewers.ee">terje.kruusalu@ewers.ee</a></p><p style="background-color:white;"><span style="-webkit-text-stroke-width:0px;background-color:rgb(255, 255, 255);color:rgb(74, 74, 74);display:inline !important;float:none;font-family:Roboto, Arial, Verdana, sans-serif;font-size:16px;font-style:normal;font-variant-caps:normal;font-variant-ligatures:normal;font-weight:400;letter-spacing:normal;orphans:2;text-align:left;text-decoration-color:initial;text-decoration-style:initial;text-decoration-thickness:initial;text-indent:0px;text-transform:none;white-space:normal;widows:2;word-spacing:0px;">VÕTI RKT koolitus viiakse läbi ESF programmist "Täiskasvanuhariduse arendamine ja mitteformaalsete õppimisvõimaluste pakkumine".</span></p><p><strong>Link: </strong>https://www.ewers.ee/et/koolituste-kalender/cnc-metalliloikepingi-programmeerimine-ja-seadistamine-0</p><p><strong>Hind: </strong>Tasuta</p>
X-MICROSOFT-CDO-BUSYSTATUS:OOF
X-MICROSOFT-CDO-IMPORTANCE:1
X-MICROSOFT-DISALLOW-COUNTER:FALSE
X-MS-OLK-ALLOWEXTERNCHECK:TRUE
X-MS-OLK-CONFTYPE:0
X-MICROSOFT-CDO-ALLDAYEVENT:1
X-MICROSOFT-MSNCALENDAR-ALLDAYEVENT:1
END:VEVENT
END:VCALENDAR