BEGIN:VCALENDAR
PRODID:-//Microsoft Corporation//Outlook 12.0 MIMEDIR//EN
VERSION:2.0
CALSCALE:GREGORIAN
BEGIN:VEVENT
UID: e51d7324-58aa-4f4d-8c2d-6d15a6b656e7
SUMMARY:Tehniline joonestamine 3D (SolidWorks)
DTSTAMP:20260429
DTSTART:20260429
DTEND:20260604
DURATION:P36D
LOCATION:Tehnomaja, Pärna tee 22, Väimela, Võru vald
DESCRIPTION: <p><a href="https://drive.google.com/file/d/1fMlZA5y5Ilu7R_IB3-90OAhut9_kFX86/view?usp=sharing">Õppekava</a></p><p><strong>Koolituse periood:&nbsp;</strong>29.04-03.06.2026</p><p><strong>Koolituse ajakava:&nbsp;</strong>kolmapäeviti kell 14.00-17.30<br>Aprill: 29<br>Mai:<span>&nbsp; </span>6,<span>&nbsp; </span>13,<span>&nbsp; </span>20,<span>&nbsp; </span>27<br>Juuni: 3</p><p><strong>Maht</strong>: 26 tundi</p><p><strong>Sihtrühm</strong>: Puidutöötlemise ja mööblitööstuse ettevõtetes projektide ja jooniste<br>konstrueerimise, tööstusmasinate ja -seadmetega tegelevad töötajad, kes vajavad<br>tööülesannetest lähtuvalt 3D jooniste lugemise ja koostamise ning masinjoonestamise oskust.</p><p><strong>Grupi suurus:</strong>&nbsp;12 inimest</p><p><strong>Õppe alustamise nõuded:&nbsp;</strong>Arvuti kasutusoskus algtasemel</p><p><strong>Õpiväljundid</strong>&nbsp;<br>Koolituse lõpuks õppija:<br>-&nbsp;loeb, koostab, vormistab ning oskab edastada ja printida jooniseid;<br>-&nbsp;koostab ruumilisi mudeleid 3D keskkonnas;<br>-&nbsp;kasutab 3D mudeleid joonise vormistamiseks ja esitlemiseks;<br>-&nbsp;oskab kasutada joonestamisel teatmematerjali (standardid, parameetrite tabelid);<br>-&nbsp;kannab joonise kujutisele mõõtmeid, tehnilisi märkusi ja tähistusi;<br>-&nbsp;oskab puittoodete tehnoloogias, tööülesannetes mudelite andmeid ja jooniseid kasutada.</p><p><strong>Õppe sisu</strong>&nbsp;<br><strong>Auditoorne töö: 6 tundi</strong><br>Tehniline joonestamine 3D tarkvara SolidWorks abil puittoodete tehnoloogias;<br>Standardid ja parameetrid puittoodete tehnoloogias;<br>Tööriistad ja töölaud;<br>Jooniste mudeli loomine mõõtkavas.<br>Joonisele mõõtmete, tehniliste märkuste ja tähistuste kandmine;<br><strong>Praktiline töö: 20 tundi</strong><br>Mudeli loomine 3D tarkvara keskkonnas;<br>Detaili jooniste loomine 3D tarkvara keskkonnas;<br>Detailsete kujundite loomine;<br>Modifitseerimiskäsklused;<br>Komponentide loomine, lisamine ja kasutamine;<br>Jooniste keskkond ja mudelruum;<br>Mõõdud, dimensioonid ja tabelid;<br>Kirjanurk ja mõõtkava;<br>Joonisele mõõtmete, tehniliste märkuste ja tähistuste kandmine;<br>Jooniste printimine ja konvertimine.</p><p><strong>Koolitaja</strong>: Riho Tiivel - täiskasvanute koolitaja, magister (tootedisain, EKA).</p><p><strong>Täpsem info ja koolitusele registreerimine:</strong><br>tel 785 0818, 510 3254<br>e-post:&nbsp;<a href="mailto:ulle.vilo@ewers.ee">ulle.vilo@ewers.ee</a></p><p><a href="https://forms.gle/SSX2KzMn39Fwv5w9A"><strong>Registreerimine</strong></a></p><p>VÕTI RKT koolitus viiakse läbi ESF programmist "Täiskasvanuhariduse arendamine ja mitteformaalsete õppimisvõimaluste pakkumine".&nbsp;</p><p><strong>Link: </strong>https://www.ewers.ee/et/koolituste-kalender/tehniline-joonestamine-3d-solidworks</p><p><strong>Hind: </strong>Tasuta</p>
STATUS:CONFIRMED
SEQUENCE:3
X-ALT-DESC;FMTTYPE=text/html:<p><a href="https://drive.google.com/file/d/1fMlZA5y5Ilu7R_IB3-90OAhut9_kFX86/view?usp=sharing">Õppekava</a></p><p><strong>Koolituse periood:&nbsp;</strong>29.04-03.06.2026</p><p><strong>Koolituse ajakava:&nbsp;</strong>kolmapäeviti kell 14.00-17.30<br>Aprill: 29<br>Mai:<span>&nbsp; </span>6,<span>&nbsp; </span>13,<span>&nbsp; </span>20,<span>&nbsp; </span>27<br>Juuni: 3</p><p><strong>Maht</strong>: 26 tundi</p><p><strong>Sihtrühm</strong>: Puidutöötlemise ja mööblitööstuse ettevõtetes projektide ja jooniste<br>konstrueerimise, tööstusmasinate ja -seadmetega tegelevad töötajad, kes vajavad<br>tööülesannetest lähtuvalt 3D jooniste lugemise ja koostamise ning masinjoonestamise oskust.</p><p><strong>Grupi suurus:</strong>&nbsp;12 inimest</p><p><strong>Õppe alustamise nõuded:&nbsp;</strong>Arvuti kasutusoskus algtasemel</p><p><strong>Õpiväljundid</strong>&nbsp;<br>Koolituse lõpuks õppija:<br>-&nbsp;loeb, koostab, vormistab ning oskab edastada ja printida jooniseid;<br>-&nbsp;koostab ruumilisi mudeleid 3D keskkonnas;<br>-&nbsp;kasutab 3D mudeleid joonise vormistamiseks ja esitlemiseks;<br>-&nbsp;oskab kasutada joonestamisel teatmematerjali (standardid, parameetrite tabelid);<br>-&nbsp;kannab joonise kujutisele mõõtmeid, tehnilisi märkusi ja tähistusi;<br>-&nbsp;oskab puittoodete tehnoloogias, tööülesannetes mudelite andmeid ja jooniseid kasutada.</p><p><strong>Õppe sisu</strong>&nbsp;<br><strong>Auditoorne töö: 6 tundi</strong><br>Tehniline joonestamine 3D tarkvara SolidWorks abil puittoodete tehnoloogias;<br>Standardid ja parameetrid puittoodete tehnoloogias;<br>Tööriistad ja töölaud;<br>Jooniste mudeli loomine mõõtkavas.<br>Joonisele mõõtmete, tehniliste märkuste ja tähistuste kandmine;<br><strong>Praktiline töö: 20 tundi</strong><br>Mudeli loomine 3D tarkvara keskkonnas;<br>Detaili jooniste loomine 3D tarkvara keskkonnas;<br>Detailsete kujundite loomine;<br>Modifitseerimiskäsklused;<br>Komponentide loomine, lisamine ja kasutamine;<br>Jooniste keskkond ja mudelruum;<br>Mõõdud, dimensioonid ja tabelid;<br>Kirjanurk ja mõõtkava;<br>Joonisele mõõtmete, tehniliste märkuste ja tähistuste kandmine;<br>Jooniste printimine ja konvertimine.</p><p><strong>Koolitaja</strong>: Riho Tiivel - täiskasvanute koolitaja, magister (tootedisain, EKA).</p><p><strong>Täpsem info ja koolitusele registreerimine:</strong><br>tel 785 0818, 510 3254<br>e-post:&nbsp;<a href="mailto:ulle.vilo@ewers.ee">ulle.vilo@ewers.ee</a></p><p><a href="https://forms.gle/SSX2KzMn39Fwv5w9A"><strong>Registreerimine</strong></a></p><p>VÕTI RKT koolitus viiakse läbi ESF programmist "Täiskasvanuhariduse arendamine ja mitteformaalsete õppimisvõimaluste pakkumine".&nbsp;</p><p><strong>Link: </strong>https://www.ewers.ee/et/koolituste-kalender/tehniline-joonestamine-3d-solidworks</p><p><strong>Hind: </strong>Tasuta</p>
X-MICROSOFT-CDO-BUSYSTATUS:OOF
X-MICROSOFT-CDO-IMPORTANCE:1
X-MICROSOFT-DISALLOW-COUNTER:FALSE
X-MS-OLK-ALLOWEXTERNCHECK:TRUE
X-MS-OLK-CONFTYPE:0
X-MICROSOFT-CDO-ALLDAYEVENT:1
X-MICROSOFT-MSNCALENDAR-ALLDAYEVENT:1
END:VEVENT
END:VCALENDAR